BEGIN:VCALENDAR
VERSION:2.0
CALSCALE:GREGORIAN
PRODID:-//Diputació de Barcelona//DibaCMS//EN
BEGIN:VEVENT
UID:DI_2483@www.saldes.cat
DTSTAMP:20260420T063406
DTSTART:20260423T120000
DTEND:20260423T120000
SUMMARY:I MARATÓ DE LECTURA PER LA LLENGUA
LOCATION:08697 Saldes
METHOD:PUBLISH
X-WR-CALNAME:saldes@saldes.cat
X-WR-TIMEZONE:Europe/Madrid
DESCRIPTION:
URI:https://www.saldes.cat/actualitat/agenda/i-marato-de-lectura-per-la-llengua.html
CLASS:PUBLIC
END:VEVENT
BEGIN:VEVENT
UID:DI_2479@www.saldes.cat
DTSTAMP:20260420T063406
DTSTART:20260427T125000
DTEND:20260427T135000
SUMMARY:BANCA MÒBIL DE CATALUNYA - CAIXA ENGINYERS
LOCATION:08697 Saldes
METHOD:PUBLISH
X-WR-CALNAME:saldes@saldes.cat
X-WR-TIMEZONE:Europe/Madrid
DESCRIPTION:
URI:https://www.saldes.cat/actualitat/agenda/2479-banca-mobil-de-catalunya-caixa-enginyers.html
CLASS:PUBLIC
END:VEVENT
BEGIN:VEVENT
UID:DI_2467@www.saldes.cat
DTSTAMP:20260420T063406
DTSTART:20260504T160000
DTEND:20260504T180000
SUMMARY:MARXA NÒRDICA 2026
LOCATION:08697 Saldes
METHOD:PUBLISH
X-WR-CALNAME:saldes@saldes.cat
X-WR-TIMEZONE:Europe/Madrid
DESCRIPTION:
URI:https://www.saldes.cat/actualitat/agenda/2467-marxa-nordica-2026.html
CLASS:PUBLIC
END:VEVENT
BEGIN:VEVENT
UID:DI_2461@www.saldes.cat
DTSTAMP:20260420T063406
DTSTART:20260506T090000
DTEND:20260506T130000
SUMMARY:PUNT D'ATENCIÓ PRESENCIAL DEL PROJECTE BETULA A SALDES
LOCATION:Plaça Pedraforca, s/n. 08697 Saldes
METHOD:PUBLISH
X-WR-CALNAME:saldes@saldes.cat
X-WR-TIMEZONE:Europe/Madrid
DESCRIPTION:
URI:https://www.saldes.cat/actualitat/agenda/2461-punt-datencio-presencial-del-projecte-betula-a-saldes.html
CLASS:PUBLIC
END:VEVENT
BEGIN:VEVENT
UID:DI_2482@www.saldes.cat
DTSTAMP:20260420T063406
DTSTART:20260508T000000
DTEND:20260508T000000
SUMMARY:PROJECTE BETULA - FER CULTURA DES DELS POBLES
LOCATION:
METHOD:PUBLISH
X-WR-CALNAME:saldes@saldes.cat
X-WR-TIMEZONE:Europe/Madrid
DESCRIPTION:
URI:https://www.saldes.cat/actualitat/agenda/projecte-betula-fer-cultura-des-dels-pobles.html
CLASS:PUBLIC
END:VEVENT
BEGIN:VEVENT
UID:DI_2484@www.saldes.cat
DTSTAMP:20260420T063406
DTSTART:20260529T100000
DTEND:20260529T100000
SUMMARY:CAMINADA INTERGENERCIONAL - DIA MUNDIAL DE L'ACTIVITAT FÍSICA
LOCATION:Escola Pedraforca - Plaça Sant Marti s/n  08697 Saldes
METHOD:PUBLISH
X-WR-CALNAME:saldes@saldes.cat
X-WR-TIMEZONE:Europe/Madrid
DESCRIPTION:
URI:https://www.saldes.cat/actualitat/agenda/caminada-intergenercional-dia-mundial-de-lactivitat-fisica.html
CLASS:PUBLIC
END:VEVENT
BEGIN:VEVENT
UID:DI_2468@www.saldes.cat
DTSTAMP:20260420T063406
DTSTART:20260601T170000
DTEND:20260601T190000
SUMMARY:MARXA NÒRDICA 2026
LOCATION:08697 Saldes
METHOD:PUBLISH
X-WR-CALNAME:saldes@saldes.cat
X-WR-TIMEZONE:Europe/Madrid
DESCRIPTION:
URI:https://www.saldes.cat/actualitat/agenda/2468-marxa-nordica-2026.html
CLASS:PUBLIC
END:VEVENT
BEGIN:VEVENT
UID:DI_2462@www.saldes.cat
DTSTAMP:20260420T063406
DTSTART:20260610T090000
DTEND:20260610T130000
SUMMARY:PUNT D'ATENCIÓ PRESENCIAL DEL PROJECTE BETULA A SALDES
LOCATION:Plaça Pedraforca, s/n. 08697 Saldes
METHOD:PUBLISH
X-WR-CALNAME:saldes@saldes.cat
X-WR-TIMEZONE:Europe/Madrid
DESCRIPTION:
URI:https://www.saldes.cat/actualitat/agenda/2462-punt-datencio-presencial-del-projecte-betula-a-saldes.html
CLASS:PUBLIC
END:VEVENT
BEGIN:VEVENT
UID:DI_2469@www.saldes.cat
DTSTAMP:20260420T063406
DTSTART:20260706T170000
DTEND:20260706T190000
SUMMARY:MARXA NÒRDICA 2026
LOCATION:08697 Saldes
METHOD:PUBLISH
X-WR-CALNAME:saldes@saldes.cat
X-WR-TIMEZONE:Europe/Madrid
DESCRIPTION:
URI:https://www.saldes.cat/actualitat/agenda/2469-marxa-nordica-2026.html
CLASS:PUBLIC
END:VEVENT
BEGIN:VEVENT
UID:DI_2474@www.saldes.cat
DTSTAMP:20260420T063406
DTSTART:20260710T220000
DTEND:20260712T010000
SUMMARY:41ª TROBADA D'ACORDIONISTES DE MAÇANERS
LOCATION:08697 Saldes
METHOD:PUBLISH
X-WR-CALNAME:saldes@saldes.cat
X-WR-TIMEZONE:Europe/Madrid
DESCRIPTION:
URI:https://www.saldes.cat/actualitat/agenda/41a-trobada-dacordionistes-de-macaners.html
CLASS:PUBLIC
END:VEVENT
BEGIN:VEVENT
UID:DI_2470@www.saldes.cat
DTSTAMP:20260420T063406
DTSTART:20260907T160000
DTEND:20260907T180000
SUMMARY:MARXA NÒRDICA 2026
LOCATION:08697 Saldes
METHOD:PUBLISH
X-WR-CALNAME:saldes@saldes.cat
X-WR-TIMEZONE:Europe/Madrid
DESCRIPTION:
URI:https://www.saldes.cat/actualitat/agenda/2470-marxa-nordica-2026.html
CLASS:PUBLIC
END:VEVENT
BEGIN:VEVENT
UID:DI_2471@www.saldes.cat
DTSTAMP:20260420T063406
DTSTART:20261005T150000
DTEND:20261005T170000
SUMMARY:MARXA NÒRDICA 2026
LOCATION:08697 Saldes
METHOD:PUBLISH
X-WR-CALNAME:saldes@saldes.cat
X-WR-TIMEZONE:Europe/Madrid
DESCRIPTION:
URI:https://www.saldes.cat/actualitat/agenda/2471-marxa-nordica-2026.html
CLASS:PUBLIC
END:VEVENT
BEGIN:VEVENT
UID:DI_2472@www.saldes.cat
DTSTAMP:20260420T063406
DTSTART:20261109T150000
DTEND:20261109T170000
SUMMARY:MARXA NÒRDICA 2026
LOCATION:08697 Saldes
METHOD:PUBLISH
X-WR-CALNAME:saldes@saldes.cat
X-WR-TIMEZONE:Europe/Madrid
DESCRIPTION:
URI:https://www.saldes.cat/actualitat/agenda/2472-marxa-nordica-2026.html
CLASS:PUBLIC
END:VEVENT
BEGIN:VEVENT
UID:DI_2473@www.saldes.cat
DTSTAMP:20260420T063406
DTSTART:20261214T150000
DTEND:20261214T170000
SUMMARY:MARXA NÒRDICA 2026
LOCATION:08697 Saldes
METHOD:PUBLISH
X-WR-CALNAME:saldes@saldes.cat
X-WR-TIMEZONE:Europe/Madrid
DESCRIPTION:
URI:https://www.saldes.cat/actualitat/agenda/2473-marxa-nordica-2026.html
CLASS:PUBLIC
END:VEVENT
END:VCALENDAR
