BEGIN:VCALENDAR
VERSION:2.0
CALSCALE:GREGORIAN
PRODID:-//Diputació de Barcelona//DibaCMS//EN
BEGIN:VEVENT
UID:1482
DTSTAMP:20260420T114829
DTSTART:20211030T100000
DTEND:20211030T210000
SUMMARY:MERCAT ARTESANAL I PEDRAFEST
LOCATION:
METHOD:PUBLISH
X-WR-CALNAME:saldes@saldes.cat
X-WR-TIMEZONE:Europe/Madrid
DESCRIPTION:
URI:https://www.saldes.cat/actualitat/agenda/mercat-artesanal-i-pedrafest.html
CLASS:PUBLIC
END:VEVENT
END:VCALENDAR
