BEGIN:VCALENDAR
VERSION:2.0
CALSCALE:GREGORIAN
PRODID:-//Diputació de Barcelona//DibaCMS//EN
BEGIN:VEVENT
UID:1699
DTSTAMP:20260423T112450
DTSTART:20221205T190000
DTEND:20221205T200000
SUMMARY:BALLS EN LÍNIA
LOCATION:08697 Saldes
METHOD:PUBLISH
X-WR-CALNAME:saldes@saldes.cat
X-WR-TIMEZONE:Europe/Madrid
DESCRIPTION:
URI:https://www.saldes.cat/actualitat/agenda/1699-balls-en-linia.html
CLASS:PUBLIC
END:VEVENT
END:VCALENDAR
