BEGIN:VCALENDAR
VERSION:2.0
CALSCALE:GREGORIAN
PRODID:-//Diputació de Barcelona//DibaCMS//EN
BEGIN:VEVENT
UID:2340
DTSTAMP:20260422T043852
DTSTART:20250711T220000
DTEND:20250712T235900
SUMMARY:40ª TROBADA D'ACORDIONISTES DE MAÇANERS
LOCATION:Carrer Major s/n 08697 Saldes
METHOD:PUBLISH
X-WR-CALNAME:saldes@saldes.cat
X-WR-TIMEZONE:Europe/Madrid
DESCRIPTION:
URI:https://www.saldes.cat/actualitat/agenda/40a-trobada-dacordionistes-de-macaners.html
CLASS:PUBLIC
END:VEVENT
END:VCALENDAR
