BEGIN:VCALENDAR
VERSION:2.0
CALSCALE:GREGORIAN
PRODID:-//Diputació de Barcelona//DibaCMS//EN
BEGIN:VEVENT
UID:2470
DTSTAMP:20260426T052910
DTSTART:20260907T160000
DTEND:20260907T180000
SUMMARY:MARXA NÒRDICA 2026
LOCATION:08697 Saldes
METHOD:PUBLISH
X-WR-CALNAME:saldes@saldes.cat
X-WR-TIMEZONE:Europe/Madrid
DESCRIPTION:
URI:https://www.saldes.cat/actualitat/agenda/2470-marxa-nordica-2026.html
CLASS:PUBLIC
END:VEVENT
END:VCALENDAR
