BEGIN:VCALENDAR
VERSION:2.0
CALSCALE:GREGORIAN
PRODID:-//Diputació de Barcelona//DibaCMS//EN
BEGIN:VEVENT
UID:2471
DTSTAMP:20260426T053004
DTSTART:20261005T150000
DTEND:20261005T170000
SUMMARY:MARXA NÒRDICA 2026
LOCATION:08697 Saldes
METHOD:PUBLISH
X-WR-CALNAME:saldes@saldes.cat
X-WR-TIMEZONE:Europe/Madrid
DESCRIPTION:
URI:https://www.saldes.cat/actualitat/agenda/2471-marxa-nordica-2026.html
CLASS:PUBLIC
END:VEVENT
END:VCALENDAR
