BEGIN:VCALENDAR
VERSION:2.0
CALSCALE:GREGORIAN
PRODID:-//Diputació de Barcelona//DibaCMS//EN
BEGIN:VEVENT
UID:2486
DTSTAMP:20260421T221141
DTSTART:20260521T113000
DTEND:20260521T130000
SUMMARY:ESCOLA DE SALUT DE SALDES - DESMEDICALITZACIÓ DE LA SALUT I ALIMENTACIO SALUDABLE
LOCATION:08697 Saldes
METHOD:PUBLISH
X-WR-CALNAME:saldes@saldes.cat
X-WR-TIMEZONE:Europe/Madrid
DESCRIPTION:
URI:https://www.saldes.cat/actualitat/agenda/escola-de-salut-de-saldes-desmedicalitzacio-de-la-salut-i-alimentacio-saludable.html
CLASS:PUBLIC
END:VEVENT
END:VCALENDAR
