BEGIN:VCALENDAR
VERSION:2.0
CALSCALE:GREGORIAN
PRODID:-//Diputació de Barcelona//DibaCMS//EN
BEGIN:VEVENT
UID:2487
DTSTAMP:20260421T221018
DTSTART:20260528T113000
DTEND:20260528T130000
SUMMARY:ESCOLA DE SALUT DE SALDES - DIABETIS I ESTIL DE VIDA SALUDABLE I PREVENCIÓ DE CAIGUDES
LOCATION:08697 Saldes
METHOD:PUBLISH
X-WR-CALNAME:saldes@saldes.cat
X-WR-TIMEZONE:Europe/Madrid
DESCRIPTION:
URI:https://www.saldes.cat/actualitat/agenda/escola-de-salut-de-saldes-diabetis-i-estil-de-vida-saludable-i-prevencio-de-caigudes.html
CLASS:PUBLIC
END:VEVENT
END:VCALENDAR
